BEGIN:VCALENDAR
VERSION:2.0
PRODID:-//PS Suisse - ECPv6.15.20//NONSGML v1.0//EN
CALSCALE:GREGORIAN
METHOD:PUBLISH
X-WR-CALNAME:PS Suisse
X-ORIGINAL-URL:https://spbe.ch/fr/
X-WR-CALDESC:Évènements pour PS Suisse
REFRESH-INTERVAL;VALUE=DURATION:PT1H
X-Robots-Tag:noindex
X-PUBLISHED-TTL:PT1H
BEGIN:VTIMEZONE
TZID:Europe/Zurich
BEGIN:DAYLIGHT
TZOFFSETFROM:+0100
TZOFFSETTO:+0200
TZNAME:CEST
DTSTART:20220327T010000
END:DAYLIGHT
BEGIN:STANDARD
TZOFFSETFROM:+0200
TZOFFSETTO:+0100
TZNAME:CET
DTSTART:20221030T010000
END:STANDARD
BEGIN:DAYLIGHT
TZOFFSETFROM:+0100
TZOFFSETTO:+0200
TZNAME:CEST
DTSTART:20230326T010000
END:DAYLIGHT
BEGIN:STANDARD
TZOFFSETFROM:+0200
TZOFFSETTO:+0100
TZNAME:CET
DTSTART:20231029T010000
END:STANDARD
BEGIN:DAYLIGHT
TZOFFSETFROM:+0100
TZOFFSETTO:+0200
TZNAME:CEST
DTSTART:20240331T010000
END:DAYLIGHT
BEGIN:STANDARD
TZOFFSETFROM:+0200
TZOFFSETTO:+0100
TZNAME:CET
DTSTART:20241027T010000
END:STANDARD
END:VTIMEZONE
BEGIN:VEVENT
DTSTART;TZID=Europe/Zurich:20230902T100000
DTEND;TZID=Europe/Zurich:20230902T123000
DTSTAMP:20260420T161428
CREATED:20230531T125450Z
LAST-MODIFIED:20230531T125450Z
UID:86927-1693648800-1693657800@spbe.ch
SUMMARY:Congrès du PS canton du Berne
DESCRIPTION:
URL:https://spbe.ch/fr/agenda/congres-du-ps-canton-du-berne-2/
CATEGORIES:Congrès du PS canton du Berne
END:VEVENT
END:VCALENDAR