BEGIN:VCALENDAR
VERSION:2.0
PRODID:-//PS Suisse - ECPv6.2.2//NONSGML v1.0//EN
CALSCALE:GREGORIAN
METHOD:PUBLISH
X-WR-CALNAME:PS Suisse
X-ORIGINAL-URL:https://spbe.ch/fr/
X-WR-CALDESC:évènements pour PS Suisse
REFRESH-INTERVAL;VALUE=DURATION:PT1H
X-Robots-Tag:noindex
X-PUBLISHED-TTL:PT1H
BEGIN:VTIMEZONE
TZID:Europe/Zurich
BEGIN:DAYLIGHT
TZOFFSETFROM:+0100
TZOFFSETTO:+0200
TZNAME:CEST
DTSTART:20230326T010000
END:DAYLIGHT
BEGIN:STANDARD
TZOFFSETFROM:+0200
TZOFFSETTO:+0100
TZNAME:CET
DTSTART:20231029T010000
END:STANDARD
END:VTIMEZONE
BEGIN:VEVENT
DTSTART;VALUE=DATE:20230618
DTEND;VALUE=DATE:20230619
DTSTAMP:20231024T103339
CREATED:20230531T125528Z
LAST-MODIFIED:20230531T125528Z
UID:86929-1687046400-1687132799@spbe.ch
SUMMARY:Votations
DESCRIPTION:
URL:https://spbe.ch/fr/veranstaltung/votations-2/2023-06-18/
END:VEVENT
END:VCALENDAR