BEGIN:VCALENDAR
VERSION:2.0
PRODID:-//SP Kanton Bern - ECPv6.15.20//NONSGML v1.0//EN
CALSCALE:GREGORIAN
METHOD:PUBLISH
X-WR-CALNAME:SP Kanton Bern
X-ORIGINAL-URL:https://spbe.ch
X-WR-CALDESC:Veranstaltungen für SP Kanton Bern
REFRESH-INTERVAL;VALUE=DURATION:PT1H
X-Robots-Tag:noindex
X-PUBLISHED-TTL:PT1H
BEGIN:VTIMEZONE
TZID:Europe/Zurich
BEGIN:DAYLIGHT
TZOFFSETFROM:+0100
TZOFFSETTO:+0200
TZNAME:CEST
DTSTART:20210328T010000
END:DAYLIGHT
BEGIN:STANDARD
TZOFFSETFROM:+0200
TZOFFSETTO:+0100
TZNAME:CET
DTSTART:20211031T010000
END:STANDARD
BEGIN:DAYLIGHT
TZOFFSETFROM:+0100
TZOFFSETTO:+0200
TZNAME:CEST
DTSTART:20220327T010000
END:DAYLIGHT
BEGIN:STANDARD
TZOFFSETFROM:+0200
TZOFFSETTO:+0100
TZNAME:CET
DTSTART:20221030T010000
END:STANDARD
BEGIN:DAYLIGHT
TZOFFSETFROM:+0100
TZOFFSETTO:+0200
TZNAME:CEST
DTSTART:20230326T010000
END:DAYLIGHT
BEGIN:STANDARD
TZOFFSETFROM:+0200
TZOFFSETTO:+0100
TZNAME:CET
DTSTART:20231029T010000
END:STANDARD
BEGIN:DAYLIGHT
TZOFFSETFROM:+0100
TZOFFSETTO:+0200
TZNAME:CEST
DTSTART:20240331T010000
END:DAYLIGHT
BEGIN:STANDARD
TZOFFSETFROM:+0200
TZOFFSETTO:+0100
TZNAME:CET
DTSTART:20241027T010000
END:STANDARD
BEGIN:DAYLIGHT
TZOFFSETFROM:+0100
TZOFFSETTO:+0200
TZNAME:CEST
DTSTART:20250330T010000
END:DAYLIGHT
BEGIN:STANDARD
TZOFFSETFROM:+0200
TZOFFSETTO:+0100
TZNAME:CET
DTSTART:20251026T010000
END:STANDARD
BEGIN:DAYLIGHT
TZOFFSETFROM:+0100
TZOFFSETTO:+0200
TZNAME:CEST
DTSTART:20260329T010000
END:DAYLIGHT
BEGIN:STANDARD
TZOFFSETFROM:+0200
TZOFFSETTO:+0100
TZNAME:CET
DTSTART:20261025T010000
END:STANDARD
BEGIN:DAYLIGHT
TZOFFSETFROM:+0100
TZOFFSETTO:+0200
TZNAME:CEST
DTSTART:20270328T010000
END:DAYLIGHT
BEGIN:STANDARD
TZOFFSETFROM:+0200
TZOFFSETTO:+0100
TZNAME:CET
DTSTART:20271031T010000
END:STANDARD
END:VTIMEZONE
BEGIN:VEVENT
DTSTART;TZID=Europe/Zurich:20260329T123000
DTEND;TZID=Europe/Zurich:20260329T220000
DTSTAMP:20260420T193131
CREATED:20260324T133103Z
LAST-MODIFIED:20260324T133103Z
UID:10000153-1774787400-1774821600@spbe.ch
SUMMARY:Wahlfest Grossratswahlen
DESCRIPTION:
URL:https://spbe.ch/veranstaltung/wahlfest-grossratswahlen/
LOCATION:Restaurant Kramer\, Kramgasse 12\, Bern\, Bern\, 3007\, Switzerland
END:VEVENT
BEGIN:VEVENT
DTSTART;TZID=Europe/Zurich:20260303T173000
DTEND;TZID=Europe/Zurich:20260303T183000
DTSTAMP:20260420T193131
CREATED:20260212T111040Z
LAST-MODIFIED:20260212T111248Z
UID:10000151-1772559000-1772562600@spbe.ch
SUMMARY:Kundgebung - Patriarchale Gewalt Stoppen!
DESCRIPTION:
URL:https://spbe.ch/veranstaltung/patriarchale-gewallt-stoppen/
LOCATION:Rathaus Bern\, Rathausplatz 2\, Bern\, Switzerland
END:VEVENT
BEGIN:VEVENT
DTSTART;TZID=Europe/Zurich:20260218T191500
DTEND;TZID=Europe/Zurich:20260218T213000
DTSTAMP:20260420T193131
CREATED:20251028T142439Z
LAST-MODIFIED:20251028T142439Z
UID:10000143-1771442100-1771450200@spbe.ch
SUMMARY:Parteitag SP Kanton Bern
DESCRIPTION:
URL:https://spbe.ch/veranstaltung/parteitag-sp-kanton-bern-8/
LOCATION:Hotel Bern\, Zeughausgasse 9\, 3011 Bern
CATEGORIES:Parteitag SP Kanton Bern
END:VEVENT
BEGIN:VEVENT
DTSTART;TZID=Europe/Zurich:20251029T191500
DTEND;TZID=Europe/Zurich:20251029T213000
DTSTAMP:20260420T193131
CREATED:20241003T115805Z
LAST-MODIFIED:20241003T115805Z
UID:10000140-1761765300-1761773400@spbe.ch
SUMMARY:Parteitag SP Kanton Bern
DESCRIPTION:
URL:https://spbe.ch/veranstaltung/parteitag-sp-kanton-bern-7/
LOCATION:Hotel Bern\, Zeughausgasse 9\, 3011 Bern
CATEGORIES:Parteitag SP Kanton Bern
END:VEVENT
BEGIN:VEVENT
DTSTART;TZID=Europe/Zurich:20250827T191500
DTEND;TZID=Europe/Zurich:20250827T213000
DTSTAMP:20260420T193131
CREATED:20241003T115538Z
LAST-MODIFIED:20250422T130634Z
UID:10000138-1756322100-1756330200@spbe.ch
SUMMARY:Parteitag SP Kanton Bern
DESCRIPTION:
URL:https://spbe.ch/veranstaltung/parteitag-sp-kanton-bern-reserve/
LOCATION:Hotel Bern\, Zeughausgasse 9\, 3011 Bern
CATEGORIES:Parteitag SP Kanton Bern
END:VEVENT
BEGIN:VEVENT
DTSTART;TZID=Europe/Zurich:20250628T100000
DTEND;TZID=Europe/Zurich:20250628T140000
DTSTAMP:20260420T193131
CREATED:20241003T115225Z
LAST-MODIFIED:20241003T115225Z
UID:10000136-1751104800-1751119200@spbe.ch
SUMMARY:Parteitag SP Kanton Bern
DESCRIPTION:
URL:https://spbe.ch/veranstaltung/parteitag-sp-kanton-bern-6/
LOCATION:Zollikofen
CATEGORIES:Parteitag SP Kanton Bern
END:VEVENT
BEGIN:VEVENT
DTSTART;TZID=Europe/Zurich:20250326T191500
DTEND;TZID=Europe/Zurich:20250326T213000
DTSTAMP:20260420T193131
CREATED:20241003T113947Z
LAST-MODIFIED:20241003T113947Z
UID:10000134-1743016500-1743024600@spbe.ch
SUMMARY:Parteitag SP Kanton Bern
DESCRIPTION:
URL:https://spbe.ch/veranstaltung/parteitag-sp-kanton-bern-5/
LOCATION:Kongresszentrum Kreuz\, Zeughausgasse 41\, 3011 Bern
CATEGORIES:Parteitag SP Kanton Bern
END:VEVENT
BEGIN:VEVENT
DTSTART;TZID=Europe/Zurich:20241030T191500
DTEND;TZID=Europe/Zurich:20241030T213000
DTSTAMP:20260420T193131
CREATED:20231030T104935Z
LAST-MODIFIED:20231030T104935Z
UID:10000084-1730315700-1730323800@spbe.ch
SUMMARY:Congrès du PS du canton de Berne
DESCRIPTION:
URL:https://spbe.ch/veranstaltung/congres-du-ps-du-canton-de-berne-2/2024-10-30/
LOCATION:Hotel Bern\, Zeughausgasse 9\, Bern\, 3011\, Schweiz
END:VEVENT
BEGIN:VEVENT
DTSTART;TZID=Europe/Zurich:20241030T191500
DTEND;TZID=Europe/Zurich:20241030T213000
DTSTAMP:20260420T193131
CREATED:20231030T104925Z
LAST-MODIFIED:20250612T133603Z
UID:10000082-1730315700-1730323800@spbe.ch
SUMMARY:Congrès du PS du canton de Berne
DESCRIPTION:Les invitations seront envoyées par mail avant les vacances d’été.
URL:https://spbe.ch/veranstaltung/congres-du-ps-du-canton-de-berne/
END:VEVENT
BEGIN:VEVENT
DTSTART;TZID=Europe/Zurich:20241030T191500
DTEND;TZID=Europe/Zurich:20241030T213000
DTSTAMP:20260420T193131
CREATED:20231030T104159Z
LAST-MODIFIED:20241003T114043Z
UID:10000128-1730315700-1730323800@spbe.ch
SUMMARY:Parteitag SP Kanton Bern
DESCRIPTION:
URL:https://spbe.ch/veranstaltung/kantonaler-parteitag/2024-10-30/
LOCATION:Hotel Bern\, Zeughausgasse 9\, Bern\, 3011\, Schweiz
END:VEVENT
BEGIN:VEVENT
DTSTART;TZID=Europe/Zurich:20240828T191500
DTEND;TZID=Europe/Zurich:20240828T213000
DTSTAMP:20260420T193131
CREATED:20231030T104935Z
LAST-MODIFIED:20231030T104935Z
UID:10000083-1724872500-1724880600@spbe.ch
SUMMARY:Congrès du PS du canton de Berne
DESCRIPTION:
URL:https://spbe.ch/veranstaltung/congres-du-ps-du-canton-de-berne-2/2024-08-28/
LOCATION:Hotel Bern\, Zeughausgasse 9\, Bern\, 3011\, Schweiz
END:VEVENT
BEGIN:VEVENT
DTSTART;TZID=Europe/Zurich:20240828T191500
DTEND;TZID=Europe/Zurich:20240828T213000
DTSTAMP:20260420T193131
CREATED:20231030T104159Z
LAST-MODIFIED:20241003T114043Z
UID:10000127-1724872500-1724880600@spbe.ch
SUMMARY:Parteitag SP Kanton Bern
DESCRIPTION:
URL:https://spbe.ch/veranstaltung/kantonaler-parteitag/2024-08-28/
LOCATION:Hotel Bern\, Zeughausgasse 9\, Bern\, 3011\, Schweiz
END:VEVENT
BEGIN:VEVENT
DTSTART;TZID=Europe/Zurich:20240504T100000
DTEND;TZID=Europe/Zurich:20240504T140000
DTSTAMP:20260420T193131
CREATED:20231030T105238Z
LAST-MODIFIED:20240321T141353Z
UID:10000129-1714816800-1714831200@spbe.ch
SUMMARY:Parteitag SP Kanton Bern
DESCRIPTION:
URL:https://spbe.ch/veranstaltung/parteitag-sp-kanton-bern-4/
LOCATION:Cortébert
END:VEVENT
BEGIN:VEVENT
DTSTART;TZID=Europe/Zurich:20240131T191500
DTEND;TZID=Europe/Zurich:20240131T213000
DTSTAMP:20260420T193131
CREATED:20231030T104159Z
LAST-MODIFIED:20241003T114043Z
UID:10000126-1706728500-1706736600@spbe.ch
SUMMARY:Parteitag SP Kanton Bern
DESCRIPTION:
URL:https://spbe.ch/veranstaltung/kantonaler-parteitag/2024-01-31/
LOCATION:Hotel Bern\, Zeughausgasse 9\, Bern\, 3011\, Schweiz
END:VEVENT
BEGIN:VEVENT
DTSTART;TZID=Europe/Zurich:20231201T140000
DTEND;TZID=Europe/Zurich:20231201T160000
DTSTAMP:20260420T193131
CREATED:20230209T144315Z
LAST-MODIFIED:20230209T144315Z
UID:10000094-1701439200-1701446400@spbe.ch
SUMMARY:Parteirat SP Schweiz
DESCRIPTION:
URL:https://spbe.ch/veranstaltung/parteirat-sp-schweiz/2023-12-01/
END:VEVENT
BEGIN:VEVENT
DTSTART;TZID=Europe/Zurich:20231101T190000
DTEND;TZID=Europe/Zurich:20231101T211500
DTSTAMP:20260420T193131
CREATED:20230404T140444Z
LAST-MODIFIED:20230626T145739Z
UID:10000103-1698865200-1698873300@spbe.ch
SUMMARY:Parteitag SP Kanton Bern
DESCRIPTION:
URL:https://spbe.ch/veranstaltung/parteitag-sp-kanton-bern-3/
CATEGORIES:Parteitag SP Kanton Bern
END:VEVENT
BEGIN:VEVENT
DTSTART;VALUE=DATE:20231022
DTEND;VALUE=DATE:20231023
DTSTAMP:20260420T193131
CREATED:20231003T132244Z
LAST-MODIFIED:20231003T132319Z
UID:10000125-1697932800-1698019199@spbe.ch
SUMMARY:National- und Ständeratswahlen 2023
DESCRIPTION:
URL:https://spbe.ch/veranstaltung/national-und-staenderatswahlen-2023/
END:VEVENT
BEGIN:VEVENT
DTSTART;TZID=Europe/Zurich:20230908T140000
DTEND;TZID=Europe/Zurich:20230908T160000
DTSTAMP:20260420T193131
CREATED:20230209T144315Z
LAST-MODIFIED:20230209T144315Z
UID:10000093-1694181600-1694188800@spbe.ch
SUMMARY:Parteirat SP Schweiz
DESCRIPTION:
URL:https://spbe.ch/veranstaltung/parteirat-sp-schweiz/2023-09-08/
END:VEVENT
BEGIN:VEVENT
DTSTART;TZID=Europe/Zurich:20230902T100000
DTEND;TZID=Europe/Zurich:20230902T123000
DTSTAMP:20260420T193131
CREATED:20230404T134954Z
LAST-MODIFIED:20230629T092008Z
UID:10000102-1693648800-1693657800@spbe.ch
SUMMARY:Parteitag SP Kanton Bern
DESCRIPTION:
URL:https://spbe.ch/veranstaltung/parteitag-sp-kanton-bern-2/
CATEGORIES:Parteitag SP Kanton Bern
END:VEVENT
BEGIN:VEVENT
DTSTART;TZID=Europe/Zurich:20230826T100000
DTEND;TZID=Europe/Zurich:20230826T170000
DTSTAMP:20260420T193131
CREATED:20230209T143914Z
LAST-MODIFIED:20230404T134801Z
UID:10000088-1693044000-1693069200@spbe.ch
SUMMARY:Parteitag SP Schweiz
DESCRIPTION:
URL:https://spbe.ch/veranstaltung/parteitag-sp-schweiz/2023-08-26/
LOCATION:CTS – Congrès\, Tourisme et Sport SA\, Zentralstrasse 60\, Biel\, 2501\, Schweiz
END:VEVENT
BEGIN:VEVENT
DTSTART;VALUE=DATE:20230618
DTEND;VALUE=DATE:20230619
DTSTAMP:20260420T193131
CREATED:20230209T144130Z
LAST-MODIFIED:20231010T133022Z
UID:10000090-1687046400-1687132799@spbe.ch
SUMMARY:Abstimmungen
DESCRIPTION:
URL:https://spbe.ch/veranstaltung/abstimmungen/2023-06-18/
END:VEVENT
BEGIN:VEVENT
DTSTART;TZID=Europe/Zurich:20230524T190000
DTEND;TZID=Europe/Zurich:20230524T190000
DTSTAMP:20260420T193131
CREATED:20230209T144852Z
LAST-MODIFIED:20230404T134557Z
UID:10000098-1684954800-1684954800@spbe.ch
SUMMARY:Conférence régionale PSJB et du PSR
DESCRIPTION:
URL:https://spbe.ch/veranstaltung/vorstaendekonferenz-rv-emmental-rv-oberaargau/
LOCATION:CTS – Congrès\, Tourisme et Sport SA\, Zentralstrasse 60\, Biel\, 2501\, Schweiz
END:VEVENT
BEGIN:VEVENT
DTSTART;TZID=Europe/Zurich:20230522T190000
DTEND;TZID=Europe/Zurich:20230522T210000
DTSTAMP:20260420T193131
CREATED:20230404T134447Z
LAST-MODIFIED:20230404T134447Z
UID:10000101-1684782000-1684789200@spbe.ch
SUMMARY:Vorständekonferenzen RV Emmental & RV Oberaargau
DESCRIPTION:
URL:https://spbe.ch/veranstaltung/vorstaendekonferenzen-rv-emmental-rv-oberaargau/
LOCATION:Hotel Berchtold\, Bahnhofstrasse 90\, Burgdorf\, 3401\, Schweiz
END:VEVENT
BEGIN:VEVENT
DTSTART;TZID=Europe/Zurich:20230516T190000
DTEND;TZID=Europe/Zurich:20230516T190000
DTSTAMP:20260420T193131
CREATED:20230209T144741Z
LAST-MODIFIED:20230404T134122Z
UID:10000097-1684263600-1684263600@spbe.ch
SUMMARY:Vorständekonferenz RV Thun & RV Oberland
DESCRIPTION:
URL:https://spbe.ch/veranstaltung/vorstaendekonferenz-rv-thun-rv-oberland/
LOCATION:Belvédère Strandhotel\, Schachenstrasse 39\, Spiez\, 3700\, Schweiz
END:VEVENT
BEGIN:VEVENT
DTSTART;TZID=Europe/Zurich:20230512T140000
DTEND;TZID=Europe/Zurich:20230512T160000
DTSTAMP:20260420T193131
CREATED:20230209T144315Z
LAST-MODIFIED:20230209T144315Z
UID:10000092-1683900000-1683907200@spbe.ch
SUMMARY:Parteirat SP Schweiz
DESCRIPTION:
URL:https://spbe.ch/veranstaltung/parteirat-sp-schweiz/2023-05-12/
END:VEVENT
BEGIN:VEVENT
DTSTART;TZID=Europe/Zurich:20230510T191500
DTEND;TZID=Europe/Zurich:20230510T220000
DTSTAMP:20260420T193131
CREATED:20230209T145134Z
LAST-MODIFIED:20230404T140521Z
UID:10000099-1683746100-1683756000@spbe.ch
SUMMARY:Parteitag SP Kanton Bern
DESCRIPTION:Einladung Parteitag\nProtokoll Parteitag 1. Februar\n\n  \nAnmeldung:\nBitte aktiviere JavaScript in deinem Browser\, um dieses Formular fertigzustellen.Delegation / délégation *Sektionen / Sections (Siehe Auswahl Sektionen)Regionalverband / fédération régionalSP Frauen / Femmes socialistes (4 Delegierte / délégué(e)s)JUSO / JS (12 Delegierte / délégué-e-s)SP 60+ (4 Delegierte / délégué-e-s)SP Migrant:innen / PS Migrant-e-s (4 Delegierte / délégué-e-s)SP queer  / PS queer (4 Delegierte / délégué-e-s)Sozial Demokratisches Forum / forum socialiste (2 Delegierte / délégué-e-s)Mitglied der Geschäftsleitung / membre du directeurMitglied der Geschäftsprüfungskomission / membre de la comission de gestionMitglied des Grossen Rates / député-e au Grand ConseilMitglied der Bundesversammlung / membre de l'assemblée fédéraleGast / hôteSektion / Section *PS Bienne-Romand	(6)PS Erguël	(2)PS La Neuveville	(1)PS Tavannes (1)PS Tramelan (2)PS Valbirse (1)SP Aarberg	(1)SP Aarwangen-Schwarzhäusern	(1)SP Aefligen	(1)SP Aegerten (1)SP Arch-Leuzigen (1)SP Bätterkinden-Kräiligen (1)SP Belp (4)SP Bern Altstadt-Kirchenfeld (11)SP Bern-Bümpliz/Bethlehem (12)SP Bern-Holligen	(6)SP Bern Länggasse-Felsenau (17)SP Bern-Nord (25)SP Bern-Ost	 (15)SP Bern-Süd (16)SP Biel-Madretsch (2)SP Biel-Stadt/Ost	(11)SP Biglen	(1)SP Bödeli-Jungfrau (7)SP Bolligen (3)SP Bremgarten (2)SP Brienz	(1)SP Brügg (1)SP Büren an der Aare (1)SP Burgdorf	 (8)SP Diessbach bei Büren (1)SP Erlach	(1)SP Frienisberg	(1)SP Frutigland (2)SP Gerzensee-Kirchdorf (1)SP Grossaffoltern-Rapperswil	(1)SP Grosshöchstetten (1)SP Heimberg (1)SP Herzogenbuchsee u. U. (4)SP Hindelbank	 (1)SP Huttwil (1)SP Ins (1)SP Ipsach	(1)SP Ittigen (1)SP Jegenstorf u. Umgebung (2)SP Jurasüdfuss (1)SP Kehrsatz	(1)SP Kirchlindach (1)SP Köniz (16)SP Konolfingen (1)SP Koppigen-Willadingen (1)SP Krauchthal-Hettiswil (1)SP Langenthal	(7)SP Laupen u.U.  (2)SP Lengnau	(1)SP Lotzwil (1)SP Lyssach (1)SP Lyss-Busswil (4)SP Meikirch	(1)SP Meiringen-Oberhasli	(1)SP Melchnau (1)SP mittleres Emmental (2)SP Moosseedorf	(2)SP Mühleberg-Frauenkappelen (1)SP Münchenbuchsee (5)SP Münsingen	(3)SP Muri-Gümligen (4)SP Neuenegg (1)SP Nidau	(2)SP Oberburg (1)SP Oberdiessbach (1)SP Obere Gürbe (1)SP Orpund (1)SP Ostermundigen	(5)SP Pieterlen	(1)SP Port (1)SP rechtes Thunerseeufer (3)SP Region Langnau	(5)SP Roggwil (2)SP Rubigen (1)SP Rüdtligen-Alchenflüh	(1)SP Rüeggisberg (1)SP Saanen (1)SP Schüpfen (1)SP Schwarzenburg (2)SP Signau-Schüpbach	(1)SP Sutz-Lattrigen (1)SP Spiez (4)SP Steffisburg 4)SP Stettlen (1)SP Studen (1)SP Täuffelen (1)SP Thierachern (1)SP Thun (13)SP Thunstetten-Bützberg (1)SP Uetendorf (1)SP unteres Emmental	(1)SP Urtenen-Schönbühl u. U. (1)SP Utzenstorf Wiler Zielebach	 (2)SP Vechigen (1)SP Walkringen	(1)SP Wichtrach (1)SP Wohlen BE (4)SP Worb (4)SP Worben (1)SP Wynau (1)SP Zollikofen (3)SP Zweisimmen (1)Regionalverband/féderation *RV Bern-Mittelland (2)RV Biel/Bienne-Seeland 2RV Emmental (2)RV Oberaargau (2)RV Oberland (2)RV Thun (2)PS Grand Chasseral (2)Biel-SeelandVorname / Prénom *Name / Nom *Pronomen/pronomsie /ihr - elle/luier/ihn - il/luikein - aucunanderes - autreBarrierefreiheit – Accessibilité *Ich benötige Unterstützung für den Anlass\, kontaktiert mich - J'ai besoin de soutien pour l'événement\, contactez-moi.Ich benötige keine Unterstützung - Je n'ai pas besoin d'aide.Telefon / Numéro de téléphone *PLZ\, Ort / Code postal lieu *E-Mail / Courriel *Sprache / Langue *DeutschFrançaisAn- oder Abmeldung / Inscription ou désinscription *Anmeldung / InscriptionAbmeldung / DésinscriptionAbsenden
URL:https://spbe.ch/veranstaltung/parteitag-sp-kanton-bern/
LOCATION:Hotel Bern\, Zeughausgasse 9\, Bern\, 3011\, Schweiz
CATEGORIES:Parteitag SP Kanton Bern
END:VEVENT
BEGIN:VEVENT
DTSTART;TZID=Europe/Zurich:20230508T080000
DTEND;TZID=Europe/Zurich:20230508T170000
DTSTAMP:20260420T193131
CREATED:20230209T144702Z
LAST-MODIFIED:20230404T133712Z
UID:10000096-1683532800-1683565200@spbe.ch
SUMMARY:Vorständekonferenz RV Biel-Seeland
DESCRIPTION:
URL:https://spbe.ch/veranstaltung/vorstaendekonferenz-rv-biel-seeland/
LOCATION:Hotel Restaurant Weisses Kreuz\, Marktplatz 15\, Lyss\, 3250
END:VEVENT
BEGIN:VEVENT
DTSTART;TZID=Europe/Zurich:20230502T190000
DTEND;TZID=Europe/Zurich:20230502T190000
DTSTAMP:20260420T193131
CREATED:20230209T144449Z
LAST-MODIFIED:20230404T133832Z
UID:10000095-1683054000-1683054000@spbe.ch
SUMMARY:Vorständekonferenz RV Bern-Mittelland
DESCRIPTION:  \n 
URL:https://spbe.ch/veranstaltung/vorstaendekonferenz-rv-bern-mittelland/
LOCATION:Hotel Bern\, Zeughausgasse 9\, Bern\, 3011\, Schweiz
END:VEVENT
BEGIN:VEVENT
DTSTART;TZID=Europe/Zurich:20230324T140000
DTEND;TZID=Europe/Zurich:20230324T160000
DTSTAMP:20260420T193131
CREATED:20230209T144315Z
LAST-MODIFIED:20230209T144315Z
UID:10000091-1679666400-1679673600@spbe.ch
SUMMARY:Parteirat SP Schweiz
DESCRIPTION:
URL:https://spbe.ch/veranstaltung/parteirat-sp-schweiz/2023-03-24/
END:VEVENT
BEGIN:VEVENT
DTSTART;VALUE=DATE:20230312
DTEND;VALUE=DATE:20230313
DTSTAMP:20260420T193131
CREATED:20230209T144130Z
LAST-MODIFIED:20231010T133022Z
UID:10000089-1678579200-1678665599@spbe.ch
SUMMARY:Abstimmungen
DESCRIPTION:
URL:https://spbe.ch/veranstaltung/abstimmungen/2023-03-12/
END:VEVENT
BEGIN:VEVENT
DTSTART;TZID=Europe/Zurich:20230225T100000
DTEND;TZID=Europe/Zurich:20230225T170000
DTSTAMP:20260420T193131
CREATED:20230209T143914Z
LAST-MODIFIED:20230404T134801Z
UID:10000087-1677319200-1677344400@spbe.ch
SUMMARY:Parteitag SP Schweiz
DESCRIPTION:
URL:https://spbe.ch/veranstaltung/parteitag-sp-schweiz/2023-02-25/
LOCATION:CTS – Congrès\, Tourisme et Sport SA\, Zentralstrasse 60\, Biel\, 2501\, Schweiz
END:VEVENT
BEGIN:VEVENT
DTSTART;TZID=Europe/Zurich:20230201T190000
DTEND;TZID=Europe/Zurich:20230201T221500
DTSTAMP:20260420T193131
CREATED:20230223T120125Z
LAST-MODIFIED:20230322T145832Z
UID:10000100-1675278000-1675289700@spbe.ch
SUMMARY:Parteitag SP Kanton Bern
DESCRIPTION:Download Unterlagen\nNationalratswahlen Nomination Kadidat:innen\nProtokoll des Parteitages vom 2. November 2022
URL:https://spbe.ch/veranstaltung/parteitag/
END:VEVENT
BEGIN:VEVENT
DTSTART;VALUE=DATE:20220831
DTEND;VALUE=DATE:20220901
DTSTAMP:20260420T193131
CREATED:20220818T062346Z
LAST-MODIFIED:20220818T062346Z
UID:10000085-1661904000-1661990399@spbe.ch
SUMMARY:Delegiertenversammlung SP60+ Morges
DESCRIPTION:
URL:https://spbe.ch/veranstaltung/delegiertenversammlung-sp60-morges/
END:VEVENT
END:VCALENDAR