BEGIN:VCALENDAR
VERSION:2.0
PRODID:-//SP Kanton Bern - ECPv6.2.2//NONSGML v1.0//EN
CALSCALE:GREGORIAN
METHOD:PUBLISH
X-WR-CALNAME:SP Kanton Bern
X-ORIGINAL-URL:https://spbe.ch
X-WR-CALDESC:Veranstaltungen für SP Kanton Bern
REFRESH-INTERVAL;VALUE=DURATION:PT1H
X-Robots-Tag:noindex
X-PUBLISHED-TTL:PT1H
BEGIN:VTIMEZONE
TZID:Europe/Zurich
BEGIN:DAYLIGHT
TZOFFSETFROM:+0100
TZOFFSETTO:+0200
TZNAME:CEST
DTSTART:20230326T010000
END:DAYLIGHT
BEGIN:STANDARD
TZOFFSETFROM:+0200
TZOFFSETTO:+0100
TZNAME:CET
DTSTART:20231029T010000
END:STANDARD
END:VTIMEZONE
BEGIN:VEVENT
DTSTART;TZID=Europe/Zurich:20231101T190000
DTEND;TZID=Europe/Zurich:20231101T211500
DTSTAMP:20231024T041740
CREATED:20230404T140444Z
LAST-MODIFIED:20230626T145739Z
UID:86728-1698865200-1698873300@spbe.ch
SUMMARY:Parteitag SP Kanton Bern
DESCRIPTION:
URL:https://spbe.ch/veranstaltung/parteitag-sp-kanton-bern-3/
CATEGORIES:Parteitag SP Kanton Bern
END:VEVENT
BEGIN:VEVENT
DTSTART;TZID=Europe/Zurich:20231201T140000
DTEND;TZID=Europe/Zurich:20231201T160000
DTSTAMP:20231024T041740
CREATED:20230209T144315Z
LAST-MODIFIED:20230209T144315Z
UID:84299-1701439200-1701446400@spbe.ch
SUMMARY:Parteirat SP Schweiz
DESCRIPTION:
URL:https://spbe.ch/veranstaltung/parteirat-sp-schweiz/2023-12-01/
END:VEVENT
END:VCALENDAR